BEGIN:VCALENDAR
VERSION:2.0
PRODID:-//eventon.com NONSGML v1.0//EN
CALSCALE:GREGORIAN
METHOD:PUBLISH
BEGIN:VEVENT
UID:69ed34a4cfcc2
DTSTAMP:20260425T213948Z
DTSTART:20201027T110000Z
DTEND:20201027T120000Z
LOCATION:
SUMMARY:Industry Standards and Requirements
DESCRIPTION:This webinar will introduce the key Cyber Security Industry Sta
 ndards and Requirements with special attention to those applicable to worki
 ng with the US Department of Defense (consideration for being awarded DoD c
 ontracts).  Included will be an introduction to the key cybersecurity docu
 ments/concepts/certifications\,  how they relate to one another\,  and what
 [..]\nhttps://newyorkmep.org/calendar/cyber-webinar-industry-standards/
URL:https://newyorkmep.org/calendar/cyber-webinar-industry-standards/
END:VEVENT
END:VCALENDAR