BEGIN:VCALENDAR
VERSION:2.0
PRODID:-//eventon.com NONSGML v1.0//EN
CALSCALE:GREGORIAN
METHOD:PUBLISH
BEGIN:VEVENT
UID:69e7756c89f23
DTSTAMP:20260421T130236Z
DTSTART:20250418T010000Z
DTEND:20250417T170000Z
LOCATION:ESL Global Cybersecurity Institute at RIT 1 Kimball Dr
SUMMARY:Finger Lakes Cybersecurity for Manufacturers Event
DESCRIPTION:Finger Lakes Cybersecurity for Manufacturers Event\nhttps://new
 yorkmep.org/calendar/finger-lakes-cybersecurity-for-manufacturers-event/
URL:https://newyorkmep.org/calendar/finger-lakes-cybersecurity-for-manufacturers-event/
END:VEVENT
END:VCALENDAR